Package: alabaster.se Version: 1.2.0 Command: chmod a+r alabaster.se -R && F:\biocbuild\bbs-3.18-bioc\R\bin\R.exe CMD build --keep-empty-dirs --no-resave-data alabaster.se StartedAt: 2024-04-15 16:55:30 -0400 (Mon, 15 Apr 2024) EndedAt: 2024-04-15 16:56:12 -0400 (Mon, 15 Apr 2024) EllapsedTime: 41.8 seconds RetCode: 0 Status: OK PackageFile: alabaster.se_1.2.0.tar.gz PackageFileSize: 223.8 KiB