Package: alabaster.ranges Version: 1.2.0 Command: /Library/Frameworks/R.framework/Resources/bin/R CMD INSTALL alabaster.ranges StartedAt: 2024-04-15 15:18:24 -0400 (Mon, 15 Apr 2024) EndedAt: 2024-04-15 15:18:55 -0400 (Mon, 15 Apr 2024) EllapsedTime: 31.0 seconds RetCode: 0 Status: OK