Package: alabaster.matrix Version: 1.2.0 Command: /home/biocbuild/bbs-3.18-bioc/R/bin/R CMD build --keep-empty-dirs --no-resave-data alabaster.matrix StartedAt: 2024-04-15 15:56:38 -0400 (Mon, 15 Apr 2024) EndedAt: 2024-04-15 15:57:04 -0400 (Mon, 15 Apr 2024) EllapsedTime: 26.1 seconds RetCode: 0 Status: OK PackageFile: alabaster.matrix_1.2.0.tar.gz PackageFileSize: 238.7 KiB