Package: alabaster.matrix Version: 1.2.0 Command: /Library/Frameworks/R.framework/Resources/bin/R CMD INSTALL alabaster.matrix StartedAt: 2024-04-15 15:18:45 -0400 (Mon, 15 Apr 2024) EndedAt: 2024-04-15 15:19:27 -0400 (Mon, 15 Apr 2024) EllapsedTime: 42.4 seconds RetCode: 0 Status: OK