Package: alabaster.matrix Version: 1.2.0 Command: /Library/Frameworks/R.framework/Resources/bin/R CMD check --install=check:alabaster.matrix.install-out.txt --library=/Library/Frameworks/R.framework/Resources/library --no-vignettes --timings alabaster.matrix_1.2.0.tar.gz StartedAt: 2024-04-15 23:08:17 -0400 (Mon, 15 Apr 2024) EndedAt: 2024-04-15 23:13:07 -0400 (Mon, 15 Apr 2024) EllapsedTime: 290.1 seconds RetCode: 0 Status: OK CheckDir: alabaster.matrix.Rcheck Warnings: 0