Package: alabaster.matrix Version: 1.2.0 Command: /Library/Frameworks/R.framework/Resources/bin/R CMD build --keep-empty-dirs --no-resave-data alabaster.matrix StartedAt: 2024-04-15 16:49:58 -0400 (Mon, 15 Apr 2024) EndedAt: 2024-04-15 16:50:58 -0400 (Mon, 15 Apr 2024) EllapsedTime: 60.5 seconds RetCode: 0 Status: OK PackageFile: alabaster.matrix_1.2.0.tar.gz PackageFileSize: 238.6 KiB