Package: alabaster.matrix Version: 1.2.0 Command: /Library/Frameworks/R.framework/Resources/bin/R CMD INSTALL alabaster.matrix StartedAt: 2024-03-03 15:14:04 -0500 (Sun, 03 Mar 2024) EndedAt: 2024-03-03 15:14:32 -0500 (Sun, 03 Mar 2024) EllapsedTime: 28.4 seconds RetCode: 0 Status: OK