Package: alabaster.files Version: 1.0.0 Command: rm -rf alabaster.files.buildbin-libdir && mkdir alabaster.files.buildbin-libdir && F:\biocbuild\bbs-3.18-bioc\R\bin\R.exe CMD INSTALL --build --library=alabaster.files.buildbin-libdir alabaster.files_1.0.0.tar.gz StartedAt: 2024-04-16 06:37:41 -0400 (Tue, 16 Apr 2024) EndedAt: 2024-04-16 06:38:31 -0400 (Tue, 16 Apr 2024) EllapsedTime: 49.6 seconds RetCode: 0 Status: OK PackageFile: alabaster.files_1.0.0.zip PackageFileSize: 607.8 KiB