Package: alabaster.files Version: 1.0.0 Command: /Library/Frameworks/R.framework/Resources/bin/R CMD build --keep-empty-dirs --no-resave-data alabaster.files StartedAt: 2024-03-03 15:51:04 -0500 (Sun, 03 Mar 2024) EndedAt: 2024-03-03 15:52:00 -0500 (Sun, 03 Mar 2024) EllapsedTime: 56.4 seconds RetCode: 0 Status: OK PackageFile: alabaster.files_1.0.0.tar.gz PackageFileSize: 232.1 KiB