Package: airpart Version: 1.10.0 Command: /home/biocbuild/bbs-3.18-bioc/R/bin/R CMD INSTALL airpart StartedAt: 2024-04-15 15:44:24 -0400 (Mon, 15 Apr 2024) EndedAt: 2024-04-15 15:44:57 -0400 (Mon, 15 Apr 2024) EllapsedTime: 33.3 seconds RetCode: 0 Status: OK