Package: affyio Version: 1.72.0 Command: /Library/Frameworks/R.framework/Resources/bin/R CMD check --install=check:affyio.install-out.txt --library=/Library/Frameworks/R.framework/Resources/library --no-vignettes --timings affyio_1.72.0.tar.gz StartedAt: 2024-04-15 23:05:38 -0400 (Mon, 15 Apr 2024) EndedAt: 2024-04-15 23:06:09 -0400 (Mon, 15 Apr 2024) EllapsedTime: 31.4 seconds RetCode: 0 Status: WARNINGS CheckDir: affyio.Rcheck Warnings: 2