Package: affycoretools Version: 1.74.0 Command: rm -rf affycoretools.buildbin-libdir && mkdir affycoretools.buildbin-libdir && /Users/biocbuild/BBS/utils/build-universal.sh affycoretools_1.74.0.tar.gz /Library/Frameworks/R.framework/Resources/bin/R affycoretools.buildbin-libdir StartedAt: 2024-04-16 10:57:10 -0400 (Tue, 16 Apr 2024) EndedAt: 2024-04-16 10:59:18 -0400 (Tue, 16 Apr 2024) EllapsedTime: 128.5 seconds RetCode: 0 Status: OK PackageFile: affycoretools_1.74.0.tgz PackageFileSize: 569.9 KiB