Package: affycomp Version: 1.78.0 Command: /home/biocbuild/R/R-4.3.1/bin/R CMD build --keep-empty-dirs --no-resave-data affycomp StartedAt: 2023-11-01 22:12:10 -0000 (Wed, 01 Nov 2023) EndedAt: 2023-11-01 22:12:21 -0000 (Wed, 01 Nov 2023) EllapsedTime: 11.0 seconds RetCode: 0 Status: OK PackageFile: affycomp_1.78.0.tar.gz PackageFileSize: 7.966 MiB