Package: affyILM Version: 1.54.0 Command: /home/biocbuild/bbs-3.18-bioc/R/bin/R CMD build --keep-empty-dirs --no-resave-data affyILM StartedAt: 2024-04-15 15:55:24 -0400 (Mon, 15 Apr 2024) EndedAt: 2024-04-15 15:56:03 -0400 (Mon, 15 Apr 2024) EllapsedTime: 38.7 seconds RetCode: 0 Status: OK PackageFile: affyILM_1.54.0.tar.gz PackageFileSize: 121.7 KiB