Package: affyILM Version: 1.54.0 Command: /Library/Frameworks/R.framework/Resources/bin/R CMD build --keep-empty-dirs --no-resave-data affyILM StartedAt: 2024-03-03 15:50:26 -0500 (Sun, 03 Mar 2024) EndedAt: 2024-03-03 15:51:26 -0500 (Sun, 03 Mar 2024) EllapsedTime: 60.7 seconds RetCode: 0 Status: OK PackageFile: affyILM_1.54.0.tar.gz PackageFileSize: 232.8 KiB