Package: affxparser Version: 1.74.0 Command: F:\biocbuild\bbs-3.18-bioc\R\bin\R.exe CMD check --no-multiarch --install=check:affxparser.install-out.txt --library=F:\biocbuild\bbs-3.18-bioc\R\library --no-vignettes --timings affxparser_1.74.0.tar.gz StartedAt: 2024-04-15 22:08:38 -0400 (Mon, 15 Apr 2024) EndedAt: 2024-04-15 22:10:25 -0400 (Mon, 15 Apr 2024) EllapsedTime: 106.7 seconds RetCode: 0 Status: WARNINGS CheckDir: affxparser.Rcheck Warnings: 1