Package: affxparser Version: 1.74.0 Command: rm -rf affxparser.buildbin-libdir && mkdir affxparser.buildbin-libdir && F:\biocbuild\bbs-3.18-bioc\R\bin\R.exe CMD INSTALL --build --library=affxparser.buildbin-libdir affxparser_1.74.0.tar.gz StartedAt: 2024-04-16 06:37:03 -0400 (Tue, 16 Apr 2024) EndedAt: 2024-04-16 06:43:02 -0400 (Tue, 16 Apr 2024) EllapsedTime: 359.3 seconds RetCode: 0 Status: OK PackageFile: affxparser_1.74.0.zip PackageFileSize: 1.268 MiB