Package: affxparser Version: 1.74.0 Command: /Library/Frameworks/R.framework/Resources/bin/R CMD INSTALL affxparser StartedAt: 2024-04-15 15:03:40 -0400 (Mon, 15 Apr 2024) EndedAt: 2024-04-15 15:06:58 -0400 (Mon, 15 Apr 2024) EllapsedTime: 197.9 seconds RetCode: 0 Status: OK