Package: affxparser Version: 1.74.0 Command: /home/biocbuild/R/R-4.3.1/bin/R CMD check --install=check:affxparser.install-out.txt --library=/home/biocbuild/R/R-4.3.1/site-library --no-vignettes --timings affxparser_1.74.0.tar.gz StartedAt: 2023-11-02 08:11:24 -0000 (Thu, 02 Nov 2023) EndedAt: 2023-11-02 08:12:22 -0000 (Thu, 02 Nov 2023) EllapsedTime: 58.6 seconds RetCode: 1 Status: ERROR CheckDir: affxparser.Rcheck Warnings: NA