Package: adductomicsR Version: 1.18.0 Command: F:\biocbuild\bbs-3.18-bioc\R\bin\R.exe CMD INSTALL adductomicsR StartedAt: 2024-04-15 16:49:25 -0400 (Mon, 15 Apr 2024) EndedAt: 2024-04-15 16:50:01 -0400 (Mon, 15 Apr 2024) EllapsedTime: 35.3 seconds RetCode: 0 Status: OK