Package: adductomicsR Version: 1.18.0 Command: /home/biocbuild/bbs-3.18-bioc/R/bin/R CMD check --install=check:adductomicsR.install-out.txt --library=/home/biocbuild/bbs-3.18-bioc/R/site-library --timings adductomicsR_1.18.0.tar.gz StartedAt: 2024-04-15 19:54:32 -0400 (Mon, 15 Apr 2024) EndedAt: 2024-04-15 20:08:05 -0400 (Mon, 15 Apr 2024) EllapsedTime: 812.5 seconds RetCode: 0 Status: WARNINGS CheckDir: adductomicsR.Rcheck Warnings: 1