Package: adductomicsR Version: 1.18.0 Command: /Library/Frameworks/R.framework/Resources/bin/R CMD INSTALL adductomicsR StartedAt: 2024-03-03 15:47:15 -0500 (Sun, 03 Mar 2024) EndedAt: 2024-03-03 15:47:46 -0500 (Sun, 03 Mar 2024) EllapsedTime: 31.4 seconds RetCode: 0 Status: OK