Package: adductomicsR Version: 1.18.0 Command: /Library/Frameworks/R.framework/Resources/bin/R CMD build --keep-empty-dirs --no-resave-data adductomicsR StartedAt: 2024-03-03 15:50:23 -0500 (Sun, 03 Mar 2024) EndedAt: 2024-03-03 15:55:03 -0500 (Sun, 03 Mar 2024) EllapsedTime: 280.0 seconds RetCode: 0 Status: OK PackageFile: adductomicsR_1.18.0.tar.gz PackageFileSize: 752.2 KiB