Package: adductomicsR Version: 1.18.0 Command: rm -rf adductomicsR.buildbin-libdir && mkdir adductomicsR.buildbin-libdir && /Users/biocbuild/BBS/utils/build-universal.sh adductomicsR_1.18.0.tar.gz /Library/Frameworks/R.framework/Resources/bin/R adductomicsR.buildbin-libdir StartedAt: 2024-03-04 00:28:08 -0500 (Mon, 04 Mar 2024) EndedAt: 2024-03-04 00:28:48 -0500 (Mon, 04 Mar 2024) EllapsedTime: 39.5 seconds RetCode: 0 Status: OK PackageFile: adductomicsR_1.18.0.tgz PackageFileSize: 1.23 MiB