Package: adSplit Version: 1.72.0 Command: chmod a+r adSplit -R && F:\biocbuild\bbs-3.18-bioc\R\bin\R.exe CMD build --keep-empty-dirs --no-resave-data adSplit StartedAt: 2024-04-15 16:53:18 -0400 (Mon, 15 Apr 2024) EndedAt: 2024-04-15 16:55:54 -0400 (Mon, 15 Apr 2024) EllapsedTime: 155.6 seconds RetCode: 0 Status: OK PackageFile: adSplit_1.72.0.tar.gz PackageFileSize: 288.4 KiB