Package: adSplit Version: 1.72.0 Command: /Library/Frameworks/R.framework/Resources/bin/R CMD check --install=check:adSplit.install-out.txt --library=/Library/Frameworks/R.framework/Resources/library --no-vignettes --timings adSplit_1.72.0.tar.gz StartedAt: 2024-03-03 18:50:44 -0500 (Sun, 03 Mar 2024) EndedAt: 2024-03-03 18:56:01 -0500 (Sun, 03 Mar 2024) EllapsedTime: 316.5 seconds RetCode: 0 Status: OK CheckDir: adSplit.Rcheck Warnings: 0