Package: adSplit Version: 1.72.0 Command: /Library/Frameworks/R.framework/Resources/bin/R CMD build --keep-empty-dirs --no-resave-data adSplit StartedAt: 2024-03-03 15:50:23 -0500 (Sun, 03 Mar 2024) EndedAt: 2024-03-03 15:52:57 -0500 (Sun, 03 Mar 2024) EllapsedTime: 153.3 seconds RetCode: 0 Status: OK PackageFile: adSplit_1.72.0.tar.gz PackageFileSize: 536.6 KiB