Package: acde Version: 1.32.0 Command: /Library/Frameworks/R.framework/Resources/bin/R CMD build --keep-empty-dirs --no-resave-data acde StartedAt: 2024-03-03 15:50:23 -0500 (Sun, 03 Mar 2024) EndedAt: 2024-03-03 15:50:47 -0500 (Sun, 03 Mar 2024) EllapsedTime: 23.7 seconds RetCode: 0 Status: OK PackageFile: acde_1.32.0.tar.gz PackageFileSize: 8.876 MiB