Package: acde Version: 1.32.0 Command: /home/biocbuild/R/R-4.3.1/bin/R CMD INSTALL acde StartedAt: 2023-11-01 20:04:10 -0000 (Wed, 01 Nov 2023) EndedAt: 2023-11-01 20:04:24 -0000 (Wed, 01 Nov 2023) EllapsedTime: 13.8 seconds RetCode: 0 Status: OK