Package: abseqR Version: 1.20.0 Command: /Library/Frameworks/R.framework/Resources/bin/R CMD INSTALL abseqR StartedAt: 2024-04-15 15:55:57 -0400 (Mon, 15 Apr 2024) EndedAt: 2024-04-15 15:56:23 -0400 (Mon, 15 Apr 2024) EllapsedTime: 25.9 seconds RetCode: 0 Status: OK