Package: abseqR Version: 1.20.0 Command: /Library/Frameworks/R.framework/Resources/bin/R CMD build --keep-empty-dirs --no-resave-data abseqR StartedAt: 2024-04-15 16:48:14 -0400 (Mon, 15 Apr 2024) EndedAt: 2024-04-15 16:55:22 -0400 (Mon, 15 Apr 2024) EllapsedTime: 428.2 seconds RetCode: 0 Status: OK PackageFile: abseqR_1.20.0.tar.gz PackageFileSize: 2.901 MiB