Package: abseqR Version: 1.20.0 Command: rm -rf abseqR.buildbin-libdir && mkdir abseqR.buildbin-libdir && /Users/biocbuild/BBS/utils/build-universal.sh abseqR_1.20.0.tar.gz /Library/Frameworks/R.framework/Resources/bin/R abseqR.buildbin-libdir StartedAt: 2024-04-16 10:57:01 -0400 (Tue, 16 Apr 2024) EndedAt: 2024-04-16 10:57:32 -0400 (Tue, 16 Apr 2024) EllapsedTime: 30.6 seconds RetCode: 0 Status: OK PackageFile: abseqR_1.20.0.tgz PackageFileSize: 2.904 MiB