Package: aCGH Version: 1.80.0 Command: /Library/Frameworks/R.framework/Resources/bin/R CMD build --keep-empty-dirs --no-resave-data aCGH StartedAt: 2024-04-15 16:48:14 -0400 (Mon, 15 Apr 2024) EndedAt: 2024-04-15 16:49:23 -0400 (Mon, 15 Apr 2024) EllapsedTime: 68.6 seconds RetCode: 0 Status: OK PackageFile: aCGH_1.80.0.tar.gz PackageFileSize: 2.219 MiB