Package: a4Reporting Version: 1.50.0 Command: /home/biocbuild/bbs-3.18-bioc/R/bin/R CMD INSTALL a4Reporting StartedAt: 2024-04-15 15:06:50 -0400 (Mon, 15 Apr 2024) EndedAt: 2024-04-15 15:07:11 -0400 (Mon, 15 Apr 2024) EllapsedTime: 21.0 seconds RetCode: 0 Status: OK