Package: a4Reporting Version: 1.50.0 Command: /home/biocbuild/bbs-3.18-bioc/R/bin/R CMD build --keep-empty-dirs --no-resave-data a4Reporting StartedAt: 2024-04-15 15:54:54 -0400 (Mon, 15 Apr 2024) EndedAt: 2024-04-15 15:54:58 -0400 (Mon, 15 Apr 2024) EllapsedTime: 4.3 seconds RetCode: 0 Status: OK PackageFile: a4Reporting_1.50.0.tar.gz PackageFileSize: 292.8 KiB