Package: a4Preproc Version: 1.50.0 Command: /home/biocbuild/bbs-3.18-bioc/R/bin/R CMD INSTALL a4Preproc StartedAt: 2024-04-15 15:06:28 -0400 (Mon, 15 Apr 2024) EndedAt: 2024-04-15 15:06:44 -0400 (Mon, 15 Apr 2024) EllapsedTime: 15.6 seconds RetCode: 0 Status: OK