Package: a4Preproc Version: 1.50.0 Command: /Library/Frameworks/R.framework/Resources/bin/R CMD INSTALL a4Preproc StartedAt: 2024-04-15 15:05:02 -0400 (Mon, 15 Apr 2024) EndedAt: 2024-04-15 15:05:17 -0400 (Mon, 15 Apr 2024) EllapsedTime: 15.3 seconds RetCode: 0 Status: OK