Package: a4Preproc Version: 1.50.0 Command: /Library/Frameworks/R.framework/Resources/bin/R CMD build --keep-empty-dirs --no-resave-data a4Preproc StartedAt: 2024-03-03 15:50:23 -0500 (Sun, 03 Mar 2024) EndedAt: 2024-03-03 15:50:38 -0500 (Sun, 03 Mar 2024) EllapsedTime: 14.7 seconds RetCode: 0 Status: OK PackageFile: a4Preproc_1.50.0.tar.gz PackageFileSize: 288.4 KiB