Package: a4Core Version: 1.50.0 Command: rm -rf a4Core.buildbin-libdir && mkdir a4Core.buildbin-libdir && F:\biocbuild\bbs-3.18-bioc\R\bin\R.exe CMD INSTALL --build --library=a4Core.buildbin-libdir a4Core_1.50.0.tar.gz StartedAt: 2024-04-16 06:37:02 -0400 (Tue, 16 Apr 2024) EndedAt: 2024-04-16 06:37:19 -0400 (Tue, 16 Apr 2024) EllapsedTime: 16.9 seconds RetCode: 0 Status: OK PackageFile: a4Core_1.50.0.zip PackageFileSize: 312.9 KiB