Package: a4Base Version: 1.50.0 Command: /Library/Frameworks/R.framework/Resources/bin/R CMD INSTALL a4Base StartedAt: 2024-03-03 15:34:56 -0500 (Sun, 03 Mar 2024) EndedAt: 2024-03-03 15:35:27 -0500 (Sun, 03 Mar 2024) EllapsedTime: 30.6 seconds RetCode: 0 Status: OK