Package: a4Base Version: 1.50.0 Command: /Library/Frameworks/R.framework/Resources/bin/R CMD build --keep-empty-dirs --no-resave-data a4Base StartedAt: 2024-03-03 15:50:23 -0500 (Sun, 03 Mar 2024) EndedAt: 2024-03-03 15:50:26 -0500 (Sun, 03 Mar 2024) EllapsedTime: 2.4 seconds RetCode: 0 Status: OK PackageFile: a4Base_1.50.0.tar.gz PackageFileSize: 366.5 KiB