Package: a4Base Version: 1.50.0 Command: /home/biocbuild/R/R-4.3.1/bin/R CMD check --install=check:a4Base.install-out.txt --library=/home/biocbuild/R/R-4.3.1/site-library --no-vignettes --timings a4Base_1.50.0.tar.gz StartedAt: 2023-11-02 08:11:24 -0000 (Thu, 02 Nov 2023) EndedAt: 2023-11-02 08:16:18 -0000 (Thu, 02 Nov 2023) EllapsedTime: 294.3 seconds RetCode: 0 Status: OK CheckDir: a4Base.Rcheck Warnings: 0