Package: a4Base Version: 1.50.0 Command: /home/biocbuild/R/R-4.3.1/bin/R CMD build --keep-empty-dirs --no-resave-data a4Base StartedAt: 2023-11-01 22:11:43 -0000 (Wed, 01 Nov 2023) EndedAt: 2023-11-01 22:11:44 -0000 (Wed, 01 Nov 2023) EllapsedTime: 1.0 seconds RetCode: 0 Status: OK PackageFile: a4Base_1.50.0.tar.gz PackageFileSize: 366.5 KiB