Package: a4 Version: 1.50.1 Command: /Library/Frameworks/R.framework/Resources/bin/R CMD INSTALL a4 StartedAt: 2024-03-03 15:35:27 -0500 (Sun, 03 Mar 2024) EndedAt: 2024-03-03 15:35:55 -0500 (Sun, 03 Mar 2024) EllapsedTime: 28.4 seconds RetCode: 0 Status: OK