Package: ZygosityPredictor Version: 1.2.0 Command: /home/biocbuild/bbs-3.18-bioc/R/bin/R CMD build --keep-empty-dirs --no-resave-data ZygosityPredictor StartedAt: 2024-04-15 19:48:07 -0400 (Mon, 15 Apr 2024) EndedAt: 2024-04-15 19:49:08 -0400 (Mon, 15 Apr 2024) EllapsedTime: 61.1 seconds RetCode: 0 Status: OK PackageFile: ZygosityPredictor_1.2.0.tar.gz PackageFileSize: 634.3 KiB