Package: ZygosityPredictor Version: 1.2.0 Command: /Library/Frameworks/R.framework/Resources/bin/R CMD check --install=check:ZygosityPredictor.install-out.txt --library=/Library/Frameworks/R.framework/Resources/library --no-vignettes --timings ZygosityPredictor_1.2.0.tar.gz StartedAt: 2024-03-04 00:14:50 -0500 (Mon, 04 Mar 2024) EndedAt: 2024-03-04 00:18:52 -0500 (Mon, 04 Mar 2024) EllapsedTime: 241.9 seconds RetCode: 0 Status: OK CheckDir: ZygosityPredictor.Rcheck Warnings: 0