Package: YAPSA Version: 1.28.0 Command: /Library/Frameworks/R.framework/Resources/bin/R CMD INSTALL YAPSA StartedAt: 2024-04-15 16:01:21 -0400 (Mon, 15 Apr 2024) EndedAt: 2024-04-15 16:03:30 -0400 (Mon, 15 Apr 2024) EllapsedTime: 129.0 seconds RetCode: 0 Status: OK