Package: Xeva Version: 1.18.0 Command: rm -rf Xeva.buildbin-libdir && mkdir Xeva.buildbin-libdir && /Users/biocbuild/BBS/utils/build-universal.sh Xeva_1.18.0.tar.gz /Library/Frameworks/R.framework/Resources/bin/R Xeva.buildbin-libdir StartedAt: 2024-04-16 12:57:04 -0400 (Tue, 16 Apr 2024) EndedAt: 2024-04-16 12:58:20 -0400 (Tue, 16 Apr 2024) EllapsedTime: 75.2 seconds RetCode: 0 Status: OK PackageFile: Xeva_1.18.0.tgz PackageFileSize: 1.439 MiB