Package: Xeva Version: 1.18.0 Command: /Library/Frameworks/R.framework/Resources/bin/R CMD INSTALL Xeva StartedAt: 2024-03-03 15:35:12 -0500 (Sun, 03 Mar 2024) EndedAt: 2024-03-03 15:36:03 -0500 (Sun, 03 Mar 2024) EllapsedTime: 51.3 seconds RetCode: 0 Status: OK