Package: Xeva Version: 1.18.0 Command: /Library/Frameworks/R.framework/Resources/bin/R CMD build --keep-empty-dirs --no-resave-data Xeva StartedAt: 2024-03-03 18:43:36 -0500 (Sun, 03 Mar 2024) EndedAt: 2024-03-03 18:44:50 -0500 (Sun, 03 Mar 2024) EllapsedTime: 73.6 seconds RetCode: 0 Status: OK PackageFile: Xeva_1.18.0.tar.gz PackageFileSize: 1.571 MiB